BEGIN:VCALENDAR
VERSION:2.0
PRODID:icalendar-ruby
CALSCALE:GREGORIAN
METHOD:PUBLISH
BEGIN:VEVENT
DTSTAMP:20260425T151656Z
UID:149-1738752@thevinecc.com
DTSTART;VALUE=DATE:20260616
DTEND;VALUE=DATE:20260618
CLASS:PUBLIC
CREATED:20260422T143414
DESCRIPTION:\n\n\n
LAST-MODIFIED:20260422T143414
LOCATION:
SUMMARY:Family Bible Camp
URL;VALUE=URI:https://thevinecc.com/events/family-bible-camp--149/2026-06-1
 6
END:VEVENT
END:VCALENDAR
